BEGIN:VCALENDAR
VERSION:2.0
PRODID:-//Nesodden kommune - ECPv6.15.20//NONSGML v1.0//EN
CALSCALE:GREGORIAN
METHOD:PUBLISH
X-ORIGINAL-URL:https://www.xn--nringslft-g3a8r.no
X-WR-CALDESC:Arrangement for Nesodden kommune
REFRESH-INTERVAL;VALUE=DURATION:PT1H
X-Robots-Tag:noindex
X-PUBLISHED-TTL:PT1H
BEGIN:VTIMEZONE
TZID:Europe/Oslo
BEGIN:DAYLIGHT
TZOFFSETFROM:+0100
TZOFFSETTO:+0200
TZNAME:CEST
DTSTART:20220327T010000
END:DAYLIGHT
BEGIN:STANDARD
TZOFFSETFROM:+0200
TZOFFSETTO:+0100
TZNAME:CET
DTSTART:20221030T010000
END:STANDARD
BEGIN:DAYLIGHT
TZOFFSETFROM:+0100
TZOFFSETTO:+0200
TZNAME:CEST
DTSTART:20230326T010000
END:DAYLIGHT
BEGIN:STANDARD
TZOFFSETFROM:+0200
TZOFFSETTO:+0100
TZNAME:CET
DTSTART:20231029T010000
END:STANDARD
BEGIN:DAYLIGHT
TZOFFSETFROM:+0100
TZOFFSETTO:+0200
TZNAME:CEST
DTSTART:20240331T010000
END:DAYLIGHT
BEGIN:STANDARD
TZOFFSETFROM:+0200
TZOFFSETTO:+0100
TZNAME:CET
DTSTART:20241027T010000
END:STANDARD
END:VTIMEZONE
BEGIN:VTIMEZONE
TZID:UTC
BEGIN:STANDARD
TZOFFSETFROM:+0000
TZOFFSETTO:+0000
TZNAME:UTC
DTSTART:20220101T000000
END:STANDARD
END:VTIMEZONE
BEGIN:VEVENT
DTSTART;TZID=Europe/Oslo:20230510T170000
DTEND;TZID=Europe/Oslo:20230510T200000
DTSTAMP:20260422T085550
CREATED:20230307T090720Z
LAST-MODIFIED:20230307T093056Z
UID:1968-1683738000-1683748800@www.xn--nringslft-g3a8r.no
SUMMARY:Grunnkurs i bedrifts etablering på Nesodden 10. mai
DESCRIPTION:Gratis kurs og veiledning for deg som skal starte bedrift\nGrunnkurs i bedrifts etablering 10. mai på Nesodden\n\n\n\n\nGratis etablererkurs og veiledning for deg som skal starte eller driver egen virksomhet på Nesodden. I tillegg gjør vi næringsfaglige vurderinger. Vi kan introdusere deg til relevante nettverk i Follo og i regionen ellers. Nettverk er viktig for å lykkes med egen bedrift! \nGrunnkurset tar for seg det viktigste du trenger å vite før du starter egen bedrift. Kurset gir deg en innføring og avklaring rundt formelle krav omkring selskapsform\, skatt\, avgifter\, trygderettigheter og forsikringer. Videre gir kurset innsikt i risikovurdering og hvordan man legger til rette for kommersiell planlegging. \nPåmelding: Husk å melde deg på for å sikre plass\, blå knapp under. \nSted: Tangenten  – Møterom Hasle.
URL:https://www.xn--nringslft-g3a8r.no/event/grunnkurs-i-etablering-10-mai/
LOCATION:Tangenten – Møterom Hasle\, Kongleveien 2\, Nesoddtangen\, 1451\, Norge
ATTACH;FMTTYPE=image/jpeg:https://www.xn--nringslft-g3a8r.no/wp-content/uploads/2022/03/Etablerertjenesten-9.jpg
ORGANIZER;CN="Nesodden kommune":MAILTO:odd.fylling@nesodden.kommune.no
END:VEVENT
BEGIN:VEVENT
DTSTART;TZID=UTC:20230523T170000
DTEND;TZID=UTC:20230523T200000
DTSTAMP:20260422T085550
CREATED:20230314T084634Z
LAST-MODIFIED:20230426T175855Z
UID:2006-1684861200-1684872000@www.xn--nringslft-g3a8r.no
SUMMARY:Gründerkafe og næringslivstreff på Signalen Sjøbad
DESCRIPTION:Starte og drive bedrift\nGründerkafe og næringslivstreff på Nesodden\n  \nFor deg som ønsker nettverk\, inspirasjon og kunnskap\n\n\nDen 23. mai er vi i gang igjen med et nytt næringslivstreff i regi av Nesodden kommune og Nesodden Næringsråd som arrangører.\nVi har gleden av å invitere til et nytt treff for deg som driver\, eller har lyst til å starte med næringsvirksomhet. Denne gangen treffes vi på Signalen Sjøbad.\n \n\n\nDenne gang har vi med oss Viken Fylkeskommune som informerer om muligheter for å søke støtte til prosjekter eller utvikling av virksomheter.\nKompetansemeglere i Viken bidrar med gratis hjelp til å finne midler\, og tips til å skrive søknad. \n \nDag Tjersland lager Siciliansk pizza på vedovn\, og smørbrød på surdeigsbrød fra bakeriet \, Nesodden næringsråd og kommunen spanderer. \nTjersland deler også sin gründerhistorie med oss denne dagen!\n \nAgenda\n\n\nDenne gangen blir det også fokus på etablerer- og gründertilværelsen på Nesodden. Husk å reservere plass. Velkommen! \n\n\n\n\n\n\nMingling og nettverksbygging \nViken Fylkeskommune som informerer om muligheter for å søke støtte til prosjekter eller utvikling av virksomheter.\nDag Tjersland deler sin gründerhistorie og erfaringer etter å ha etablert og bidratt til etablering av flere serveringssteder. «Veien til Signalen Sjøbad»\, en gründereise gjennom oppturer og nedturer i krevende landskap gjennom mange år. Dag deler sine erfaringer under storm og stille\, og hvordan komme videre når man «står fast» som gründer.\nÅpen dialog – hvem vil dele noe\, selge noe\, samarbeide om noe\, hvem har behov for noe?\nHvordan er etablerer- og gründertilværelsen på Nesodden? \nUformell prat og nettverksbygging.\n\n\nVi gleder oss til å se mange “nye og gamle” ansikter\, og til å ønske dere alle velkommen!\nHusk å melde deg på!\n \n\n\n\n\nHvorfor gründerkafe og næringslivstreff på Nesodden?\n\nNesodden kommune og Nesodden Næringsråd arrangerer i felleskap dette svært etterlengtede tiltaket på Nesodden. Et «treff» for nettverksbygging og motivasjons innsprøyting for “den ensomme gründer” og de mange små næringsdrivende. Dette er et sosialt\, uhøytidelig\, inspirerende treff for Nesoddens mange selvstendig næringsdrivende\, oppfinnere\, små foretak\, innovatører og gründere. Med så mange frilansere\, selvstendig næringsdrivende\, og gründere som holder til i vårt distrikt\, er det fint med en arena hvor disse gruppene kan møtes.\n \nHusk å melde deg på!\n\n\n\n\n\n\n\n\n\n\n 
URL:https://www.xn--nringslft-g3a8r.no/event/grunderkafe-og-naeringslivstreff-pa-nesodden/
LOCATION:Signalen Sjøbad\, Nesoddtangen brygge.\, Tangenveien 1\, 1450 Nesoddtangen
ATTACH;FMTTYPE=image/jpeg:https://www.xn--nringslft-g3a8r.no/wp-content/uploads/2021/07/wheat-2391348_1920.jpg
ORGANIZER;CN="Nesodden kommune":MAILTO:odd.fylling@nesodden.kommune.no
END:VEVENT
BEGIN:VEVENT
DTSTART;TZID=Europe/Oslo:20230524T170000
DTEND;TZID=Europe/Oslo:20230524T200000
DTSTAMP:20260422T085550
CREATED:20230420T113617Z
LAST-MODIFIED:20230420T115319Z
UID:2203-1684947600-1684958400@www.xn--nringslft-g3a8r.no
SUMMARY:Forretningsplan og forretningsmodeller 24.mai
DESCRIPTION:Gratis kurs og veiledning for deg som skal starte eller driver bedrift\nForretningsplan og forretningsmodeller 24.mai\n\n\n\n\nTemakvelden viser hvordan man lager en enkel og praktisk plan for å skape sammenheng og systematikk mellom forretningside\, forretningsmodell\, mål\, handlingsplaner og budsjett. Forretningsmodellen gir deg oversikt over hvilke oppgaver som må løses for å få bedriften på bena og tjene penger. \nPåmelding her.  \n 
URL:https://www.xn--nringslft-g3a8r.no/event/forretningsplan-og-forretningsmodeller-24-mai/
LOCATION:Nordre Follo rådhus\, Idrettsveien 8\, 1400 Ski
ATTACH;FMTTYPE=image/png:https://www.xn--nringslft-g3a8r.no/wp-content/uploads/2023/04/Etab-mai-1.png
END:VEVENT
BEGIN:VEVENT
DTSTART;TZID=Europe/Oslo:20230530T090000
DTEND;TZID=Europe/Oslo:20230530T163000
DTSTAMP:20260422T085550
CREATED:20230314T081820Z
LAST-MODIFIED:20230314T082417Z
UID:1997-1685437200-1685464200@www.xn--nringslft-g3a8r.no
SUMMARY:Gratis personlig veiledning for deg som vil starte bedrift - nå også på Nesodden!
DESCRIPTION:Starte eller drive bedrift\nBestill en gratis personlig veiledningstime på Nesodden!\n\nGratis individuell veiledning på Nesodden 30. mai.\nMålet med dette veiledningstilbudet er å hjelpe deg å utforske din egen forretningsidé\, og bidra til at du får laget en god forretningsmodell/plan som setter deg i stand til å starte og utvikle en lønnsom forretningsvirksomhet. \nHvorvidt prosjektet ditt lykkes avhenger i stor grad av deg selv. Men vi bistår deg gjerne i utviklingen av din forretningsidé\, plan og gjennomføring\, og dette gjør vi gratis\, uten kostnader for deg. \nDriver du en bedrift i dag\, kan du få hjelp til omstilling eller videreutvikling\, ta kontakt! \nDu bestiller gratis veiledningstime hos oss her. Skal du ha næringsfaglig vurdering koster det kr 1250\,- ink mva. Etter at du har bestilt time tar vi kontakt med deg for å avtale tidspunkt for en veiledningstime. Trykk på en av lenkene nedenfor for å sende e-post (etablerer@norgesvel.no) til oss med din henvendelse. \n\n\n\n\n\n\nBestill personlig veiledning på Nesodden 30. mai\n.\n\n\n\n\n\n\n\nBestilling næringsfaglig vurdering Follo\n\n\n\n\n\n\n\n\n\n\n\n\nVil du ha bedriftsbesøk? \nVi drar også på bedriftsbesøk. Vil du at vi skal komme å se på din virksomhet (butikk\, verksted\, cafe\, gård eller lignende) ta kontakt på etablerer@norgesvel.no
URL:https://www.xn--nringslft-g3a8r.no/event/gratis-personlig-veiledning-for-deg-som-vil-starte-bedrift-na-ogsa-pa-nesodden/
LOCATION:Tangenten – møterom Furu\, Nesodden Kommune\, Nesoddtangen\, 1451\, Norge
ATTACH;FMTTYPE=image/jpeg:https://www.xn--nringslft-g3a8r.no/wp-content/uploads/2021/09/Etablerertjenesten-4.jpg
ORGANIZER;CN="Nesodden kommune":MAILTO:odd.fylling@nesodden.kommune.no
END:VEVENT
BEGIN:VEVENT
DTSTART;TZID=Europe/Oslo:20230531T120000
DTEND;TZID=Europe/Oslo:20230531T150000
DTSTAMP:20260422T085550
CREATED:20230425T164343Z
LAST-MODIFIED:20230426T154218Z
UID:2232-1685534400-1685545200@www.xn--nringslft-g3a8r.no
SUMMARY:Velkommen til medvirkning og dialogmøte om fremtidige Fagerstrand 31. mai
DESCRIPTION:Møte for eiere og leietagere til næringsarealer på Fagerstrand sentrum og sjøside. \nNesodden kommune har gleden av å invitere dagens næringsaktører og eiere (næringseiendom) til dialogmøte 31. mai kl. 12-15\, i forbindelse med arbeidet med stedsutviklingen (kommunedelplanen for Fagerstrand sentrum og områder langs sjøen (KDP)) på Fagerstrand. \nDet er stor interesse for utvikling på Fagerstrand\, som skal videreutvikles til å bli et godt sted å leve og arbeide også i fremtiden. Nesoddens politikere ønsker seg mer næring og flere arbeidsplasser\, og det skal vi få til. Det skal skje mye på Fagerstrand fremover\, og dere er viktige medspillere i prosessen. \nHvordan kan man legge til rette for at dere kan drive virksomheten slik dere ønsker fremover? \nHensikten med møtet fra kommunens side\, er å kunne informere om\, og få innspill på planprosessen i forbindelse med KDP som utarbeides nå. Næringsutvikling er et viktig arbeid i planområdet i tillegg til å tilrettelegge for sentrumsutvikling\, nabolag og møteplasser. \nDet er viktig for kommunen\, å få så mange innspill som mulig i forbindelse med prosessen. Potensialet for næringsutvikling på Fagerstrand er stort tenker vi\, med 1\,5 million mennesker innen en ca. time reisetid fra Fagerstrand. \nHer finnes det fastsatte planprogrammet for KDP\, og her finner du en video i forbindelse med en Europeisk arkitektkonkurranse (Europan). \nMøtested: Vi møtes hos Norsk Yrkesdykkerskole (NYD) på brygga. \nAgenda: \n\nPlan informerer om arbeidet med stedsutvikling på Fagerstrand\nEn kort orientering fra næringsrådgiver om idearbeid så langt rundt mulighetsrommet på Fagerstrand\nGruppearbeid og diskusjoner\, hvordan ta vare på eksisterende næringsliv og gi vekstmuligheter om det er ønskelig?\nPause og mingling 30 minutt\nInnspill til kommunen på ideer/behov fra de ulike aktørene/gruppene\nHvordan kunne levere konkrete innspill til kommunen og/eller eiere fra interessenter til de ulike områdene etter møtet?\nSpørsmål?\n\nPS! Dere som er eiere og næringsaktører i dag innen KDP området inviteres også til et tilsvarende møte som dette 7. juni kl. 13-16\, der også interessenter utenfra inviteres inn. Dere kan jo vurdere om de er ønskelig eller hensiktsmessig å delta på begge møtene.
URL:https://www.xn--nringslft-g3a8r.no/event/velkommen-til-medvirkning-og-dialogmote-om-fremtidige-fagerstrand-31-mai/
LOCATION:Fagerstrand\, Fagerstrandbakken 72\, (Fagerstrand Brygge)\, Fagerstrand\, 1454\, Norge
ATTACH;FMTTYPE=image/png:https://www.xn--nringslft-g3a8r.no/wp-content/uploads/2023/04/Fagerstrand.png
ORGANIZER;CN="Nesodden kommune":MAILTO:odd.fylling@nesodden.kommune.no
END:VEVENT
BEGIN:VEVENT
DTSTART;TZID=Europe/Oslo:20230531T170000
DTEND;TZID=Europe/Oslo:20230531T200000
DTSTAMP:20260422T085550
CREATED:20230420T115644Z
LAST-MODIFIED:20230420T115751Z
UID:2208-1685552400-1685563200@www.xn--nringslft-g3a8r.no
SUMMARY:Markedsføring og konseptutvikling 31.mai
DESCRIPTION:Gratis kurs og veiledning for deg som skal starte eller driver bedrift\nMarkedsføring og konseptutvikling 31.mai\n\n\n\n\nHva skal du være\, hvordan skal du gjøre det og for hvem? Temakvelden hjelper deg å forstå kunders kjøpsadferd slik at din bedrift kan utvikle hensiktsmessige markedsstrategier. Kurset gir innsikt i kjøps- og beslutningsprosesser\, segmentering\, posisjonering\, produktutvikling og markedskommunikasjon. \nPåmelding her.  \n 
URL:https://www.xn--nringslft-g3a8r.no/event/markedsforing-og-konseptutvikling-31-mai/
LOCATION:Nordre Follo rådhus\, Idrettsveien 8\, 1400 Ski
ATTACH;FMTTYPE=image/jpeg:https://www.xn--nringslft-g3a8r.no/wp-content/uploads/2023/04/mai-2.jpg
END:VEVENT
END:VCALENDAR