BEGIN:VCALENDAR
VERSION:2.0
PRODID:-//Nesodden kommune - ECPv6.15.20//NONSGML v1.0//EN
CALSCALE:GREGORIAN
METHOD:PUBLISH
X-ORIGINAL-URL:https://www.xn--nringslft-g3a8r.no
X-WR-CALDESC:Arrangement for Nesodden kommune
REFRESH-INTERVAL;VALUE=DURATION:PT1H
X-Robots-Tag:noindex
X-PUBLISHED-TTL:PT1H
BEGIN:VTIMEZONE
TZID:Europe/Oslo
BEGIN:DAYLIGHT
TZOFFSETFROM:+0100
TZOFFSETTO:+0200
TZNAME:CEST
DTSTART:20220327T010000
END:DAYLIGHT
BEGIN:STANDARD
TZOFFSETFROM:+0200
TZOFFSETTO:+0100
TZNAME:CET
DTSTART:20221030T010000
END:STANDARD
BEGIN:DAYLIGHT
TZOFFSETFROM:+0100
TZOFFSETTO:+0200
TZNAME:CEST
DTSTART:20230326T010000
END:DAYLIGHT
BEGIN:STANDARD
TZOFFSETFROM:+0200
TZOFFSETTO:+0100
TZNAME:CET
DTSTART:20231029T010000
END:STANDARD
BEGIN:DAYLIGHT
TZOFFSETFROM:+0100
TZOFFSETTO:+0200
TZNAME:CEST
DTSTART:20240331T010000
END:DAYLIGHT
BEGIN:STANDARD
TZOFFSETFROM:+0200
TZOFFSETTO:+0100
TZNAME:CET
DTSTART:20241027T010000
END:STANDARD
END:VTIMEZONE
BEGIN:VEVENT
DTSTART;TZID=Europe/Oslo:20230905T170000
DTEND;TZID=Europe/Oslo:20230905T200000
DTSTAMP:20260422T022547
CREATED:20230822T131740Z
LAST-MODIFIED:20230822T131740Z
UID:2785-1693933200-1693944000@www.xn--nringslft-g3a8r.no
SUMMARY:Grunnkurs i etablering 5. september
DESCRIPTION:Grunnkurset tar for seg det viktigste du trenger å vite før du starter egen bedrift. Kurset gir deg en innføring og avklaring rundt formelle krav omkring selskapsform\, skatt\, avgifter\, trygderettigheter og forsikringer. Videre gir kurset innsikt i risikovurdering og hvordan man legger til rette for en vellykket start av din virksomhet. \nSted: Nordre Follo Rådhus – Idrettsveien 8 – Ski \n\n\n\n\n\n\nKurset er gratis. Dersom du ikke kommer på kurset uten at vi har fått beskjed faktureres et gebyr på 500 kroner . \nMeld deg på \n\n\n\n\n\n\n\n 
URL:https://www.xn--nringslft-g3a8r.no/event/grunnkurs-i-etablering-5-september/
LOCATION:Nordre Follo rådhus\, Idrettsveien 8\, 1400 Ski
ATTACH;FMTTYPE=image/jpeg:https://www.xn--nringslft-g3a8r.no/wp-content/uploads/2023/08/Etablerertjenesten-ht1.jpg
ORGANIZER;CN="Nesodden kommune":MAILTO:odd.fylling@nesodden.kommune.no
END:VEVENT
END:VCALENDAR