BEGIN:VCALENDAR
VERSION:2.0
PRODID:-//Nesodden kommune - ECPv6.15.20//NONSGML v1.0//EN
CALSCALE:GREGORIAN
METHOD:PUBLISH
X-ORIGINAL-URL:https://www.xn--nringslft-g3a8r.no
X-WR-CALDESC:Arrangement for Nesodden kommune
REFRESH-INTERVAL;VALUE=DURATION:PT1H
X-Robots-Tag:noindex
X-PUBLISHED-TTL:PT1H
BEGIN:VTIMEZONE
TZID:Europe/Oslo
BEGIN:DAYLIGHT
TZOFFSETFROM:+0100
TZOFFSETTO:+0200
TZNAME:CEST
DTSTART:20220327T010000
END:DAYLIGHT
BEGIN:STANDARD
TZOFFSETFROM:+0200
TZOFFSETTO:+0100
TZNAME:CET
DTSTART:20221030T010000
END:STANDARD
BEGIN:DAYLIGHT
TZOFFSETFROM:+0100
TZOFFSETTO:+0200
TZNAME:CEST
DTSTART:20230326T010000
END:DAYLIGHT
BEGIN:STANDARD
TZOFFSETFROM:+0200
TZOFFSETTO:+0100
TZNAME:CET
DTSTART:20231029T010000
END:STANDARD
BEGIN:DAYLIGHT
TZOFFSETFROM:+0100
TZOFFSETTO:+0200
TZNAME:CEST
DTSTART:20240331T010000
END:DAYLIGHT
BEGIN:STANDARD
TZOFFSETFROM:+0200
TZOFFSETTO:+0100
TZNAME:CET
DTSTART:20241027T010000
END:STANDARD
END:VTIMEZONE
BEGIN:VTIMEZONE
TZID:UTC
BEGIN:STANDARD
TZOFFSETFROM:+0000
TZOFFSETTO:+0000
TZNAME:UTC
DTSTART:20220101T000000
END:STANDARD
END:VTIMEZONE
BEGIN:VEVENT
DTSTART;TZID=Europe/Oslo:20231011T170000
DTEND;TZID=Europe/Oslo:20231011T200000
DTSTAMP:20260422T001703
CREATED:20230822T132048Z
LAST-MODIFIED:20230822T132048Z
UID:2788-1697043600-1697054400@www.xn--nringslft-g3a8r.no
SUMMARY:Grunnkurs i etablering 11.oktober 2023
DESCRIPTION:Grunnkurset tar for seg det viktigste du trenger å vite før du starter egen bedrift. Kurset gir deg en innføring og avklaring rundt formelle krav omkring selskapsform\, skatt\, avgifter\, trygderettigheter og forsikringer. Videre gir kurset innsikt i risikovurdering og hvordan man legger til rette for en vellykket start av din virksomhet. \nSted Nordre Follo Rådhus\, Ski \n\n\n\n\n\n\nKurset er gratis. Dersom du ikke kommer på kurset uten at vi har fått beskjed faktureres et gebyr på 500 kroner . \nPå noen PCer særlig Mac vil ikke skrollefelt i påmeldingsskjema være synlig. Bruk styreflate til å skrolle ned i skjema til du får Send inn knappen. \n\n\n\n\n\nMeld deg på
URL:https://www.xn--nringslft-g3a8r.no/event/grunnkurs-i-etablering-11-oktober-2023/
LOCATION:Nordre Follo rådhus\, Idrettsveien 8\, 1400 Ski
ATTACH;FMTTYPE=image/jpeg:https://www.xn--nringslft-g3a8r.no/wp-content/uploads/2023/08/Etablerertjenesten-ht1.jpg
ORGANIZER;CN="Nesodden kommune":MAILTO:odd.fylling@nesodden.kommune.no
END:VEVENT
BEGIN:VEVENT
DTSTART;TZID=UTC:20231012T170000
DTEND;TZID=UTC:20231012T200000
DTSTAMP:20260422T001703
CREATED:20230720T124123Z
LAST-MODIFIED:20230929T073624Z
UID:2636-1697130000-1697140800@www.xn--nringslft-g3a8r.no
SUMMARY:Næringslivstreff og gründerkafe
DESCRIPTION:Starte og drive bedrift\nNæringslivstreff og gründerkafe på Nesodden\nFor deg som ønsker nettverk\, inspirasjon og kunnskap\n\n\nEtter et vellykket næringslivstreff 23 mai med 53 påmeldte\, er vi klar for en ny samling for næringsdrivende. Mye positiv tilbakemelding fra deltagerne og flere tok kontakt med Fylkeskommunen.\n \nDen 12. oktober er vi i gang igjen med et nytt næringslivstreff i regi av Nesodden kommune og Nesodden Næringsråd som arrangører.\nVi har gleden av å invitere til et nytt treff for deg som driver\, eller har lyst til å starte med næringsvirksomhet. \nMøtes i Elevkantina på Tangenten\, vi serverer Pizza og kaffe.\n \n\n\nAgenda\nDenne gangen blir det også fokus på etablerer- og gründertilværelsen på Nesodden. \n\n\nHusk å reservere plass. Velkommen! \n\n\n\n\n\n\nMingling og nettverksbygging \nNæringsrådgiver i Nesodden kommune forteller om portalen OpplevNesodden.no og tankene/mulighetsrrommet rundt denne.\nHvordan bygge næring for turisme og reiseliv på Nesodden?\nHar næringsdrivende på Nesodden behov for et felles treffsted\, eller kontorfellesskap eller …..?\nHva ønsker vi med et hotell på Nesodden og hvordan kan det hjelpe næringslivet?\nÅpen dialog – hvem vil dele noe\, selge noe\, samarbeide om noe\, hvem har behov for noe?\nUformell prat og nettverksbygging.\n\n  \n\nVi gleder oss til å se mange “nye og gamle” ansikter\, og til å ønske dere alle velkommen!\nHusk å melde deg på!\n \n\n\n\n\nHvorfor gründerkafe og næringslivstreff på Nesodden?\n\nNesodden kommune og Nesodden Næringsråd arrangerer i felleskap dette svært etterlengtede tiltaket på Nesodden. Et «treff» for nettverksbygging og motivasjons innsprøyting for “den ensomme gründer” og de mange små næringsdrivende. Dette er et sosialt\, uhøytidelig\, inspirerende treff for Nesoddens mange selvstendig næringsdrivende\, oppfinnere\, små foretak\, innovatører og gründere. Med så mange frilansere\, selvstendig næringsdrivende\, og gründere som holder til i vårt distrikt\, er det fint med en arena hvor disse gruppene kan møtes.\n \nHusk å melde deg på!\n\n\n\n\n\n\n\n\n\n\n 
URL:https://www.xn--nringslft-g3a8r.no/event/naeringslivstreff/
LOCATION:Tangenten – Elevkantinen\, Nesodden Kommune\, Nesoddtangen\, 1451\, Norge
ATTACH;FMTTYPE=image/jpeg:https://www.xn--nringslft-g3a8r.no/wp-content/uploads/2023/07/Opplev-Nesodden-1920x1080-1.jpg
ORGANIZER;CN="Nesodden kommune":MAILTO:odd.fylling@nesodden.kommune.no
END:VEVENT
BEGIN:VEVENT
DTSTART;TZID=Europe/Oslo:20231025T090000
DTEND;TZID=Europe/Oslo:20231025T150000
DTSTAMP:20260422T001703
CREATED:20230911T073337Z
LAST-MODIFIED:20230911T073337Z
UID:2839-1698224400-1698246000@www.xn--nringslft-g3a8r.no
SUMMARY:Gratis personlig veiledning for deg som vil starte bedrift - nå også på Nesodden!
DESCRIPTION:Starte eller drive bedrift\nBestill en gratis personlig veiledningstime på Nesodden!\n\nGratis individuell veiledning på Nesodden 25. oktober.\nMålet med dette veiledningstilbudet er å hjelpe deg å utforske din egen forretningsidé\, og bidra til at du får laget en god forretningsmodell/plan som setter deg i stand til å starte og utvikle en lønnsom forretningsvirksomhet. \nHvorvidt prosjektet ditt lykkes avhenger i stor grad av deg selv. Men vi bistår deg gjerne i utviklingen av din forretningsidé\, plan og gjennomføring\, og dette gjør vi gratis\, uten kostnader for deg. \nDriver du en bedrift i dag\, kan du få hjelp til omstilling eller videreutvikling\, ta kontakt! \nDu bestiller gratis veiledningstime hos oss her. Skal du ha næringsfaglig vurdering koster det kr 1250\,- ink mva. Etter at du har bestilt time tar vi kontakt med deg for å avtale tidspunkt for en veiledningstime. Trykk på en av lenkene nedenfor for å sende e-post (etablerer@norgesvel.no) til oss med din henvendelse. \n\n\n\n\n\n\nBestill personlig veiledning på Nesodden 25.oktober\n.\n\n\n\n\n\n\n\nBestilling næringsfaglig vurdering Follo\n\n\n\n\n\n\n\n\n\n\n\n\nVil du ha bedriftsbesøk? \nVi drar også på bedriftsbesøk. Vil du at vi skal komme å se på din virksomhet (butikk\, verksted\, cafe\, gård eller lignende) ta kontakt på etablerer@norgesvel.no
URL:https://www.xn--nringslft-g3a8r.no/event/gratis-personlig-veiledning-for-deg-som-vil-starte-bedrift-na-ogsa-pa-nesodden-2/
LOCATION:Tangenten – møterom Agnor\, Nesodden Kommune\, Nesoddtangen\, 1451\, Norge
ATTACH;FMTTYPE=image/jpeg:https://www.xn--nringslft-g3a8r.no/wp-content/uploads/2021/09/Etablerertjenesten-4.jpg
ORGANIZER;CN="Nesodden kommune":MAILTO:odd.fylling@nesodden.kommune.no
END:VEVENT
BEGIN:VEVENT
DTSTART;TZID=Europe/Oslo:20231026T114500
DTEND;TZID=Europe/Oslo:20231026T190000
DTSTAMP:20260422T001703
CREATED:20230330T115044Z
LAST-MODIFIED:20231024T070523Z
UID:2063-1698320700-1698346800@www.xn--nringslft-g3a8r.no
SUMMARY:Næringslivsdagen på Nesodden - 26. oktober 2023
DESCRIPTION:Bli med på Næringslivsdagen som samler næringslivet på Nesodden – høstens store høydepunkt kan du ikke gå glipp av!\n  \n\n\n\n\n\nÅrets treff for bedrifter på Nesodden blir torsdag 26. oktober kl. 11:45 – 19:00.\nHovedforedragsholder blir Børge Ousland som deler sin gründerhistorie. Børge deler unike og lærerike erfaringer fra sin karrière som polfarer\, fotograf og gründer.\n\n\n\n\nNB! Siste frist for påmelding til årets arrangement for næringslivet er 25. oktober kl. 12!\n\n\n\n\nPolfarer og foredragsholder Børge Ousland\n\n\n\nBørge Ousland har tretti års erfaring med ekspedisjoner til klodens ytterpunkter. \nEtter å reist gjennom noen av de vanskeligste forholdene på jorden\, ofte alene\, beviser Børge hva man kan oppnå ved å legge frykten bak seg og hente motivasjon selv i de mest håpløse situasjoner. Dette er blant ingrediensene som gjentatte ganger har ført ham til suksess. \nEkspedisjonene hans har blitt til flere bøker og TV-serier hvor Børge selv har stått for fotografi. Han har gjennomført flere pionerekspedisjoner og satt nye rekorder. \nSom forretningsutvikler og gründer har Børge også erfart alt om å tørre å ta risiko for å nå de målene man ønsker. \n \nSom gründer har han i senere år jobbet med å utvikle landskapshotellet Manshausen i Steigen i Nordland fylke sammen med arkitekten Snorre Stinesen har de vunnet flere priser for den unike hotellperlen. \nNæringslivsdagen på Nesodden er et samarbeid mellom Nesodden kommune (Næring) og Nesodden Næringsråd. \n  \n\nSted: Tangenten\, Ungdomsarena\nPåmeldingsfrist: 25. oktober\nBegrenset antall: Maks antall deltagere 70 stk.\nPris: Konferanse inklusiv lunsj og middag Kr. 793.-\nØnsker du kun delta på konferansen uten middag\, kr. 298.-. Mer info i programmet og lenger nede på siden. \n\nPåmelding: Meld deg på her.\n\n  \n\n\n\n\nProgram\n\n\n\n 11:45\nRegistrering\, lunsj og mingling i Øvre kafe (Andante\, Tangenten)\n\n\n\n\n\n 12:30  \n  \n– Velkommen\nInnledning \n– Hvor er vi nå\, og hvor er vi på vei – næringsutvikling på Nesodden i praksis.\nTorgeir Koteng\, leder Nesodden Næringsråd og Odd Fylling\, næringsansvarlig i kommunen. \n– Fremtidsperspektiv: Ser vi fremtiden raskt nok\, ser vi mulighetene\, eller vinner konkurrentene?\nVi vil se mer endring i de neste ti årene enn i de foregående 250 år. I en verden med rask endring er det ikke lett å se fremover. Likevel trenger alle bedrifter et fremtidsperspektiv\, nå mer enn noen gang er en bedrifts potensial definert av hvordan man ser på fremtiden. Hva er din bedrifts fremtidige potensial? Hvordan skal din bedrift gripe mulighetene før andre? Og hvem kan hjelpe deg med å komme dit? Marius hjelper oss å se inn i fremtiden\, styre bedriften i en turbulent fremtid.\nMarius Sandvik\,\nSeniorrådgiver entreprenørskap og forretningsutvikling \n– Hvordan lykkes med sirkulærøkonomi lokalt?\nSirkulære forretningsmodeller\, næringskjede fra avfall til ressurs.\nRune-André Tveit\, spesialist på innovasjon og bærekraft er Lab Agent for Innovation Lab hvor han tilbyr bærekraft som tjeneste for bedrifter med fokus på strategi\, prosess\, kompetanse\, og rapportering. Les mer her. \n\n\n\n 13:45\nPause\n\n\n 14:00\n  \nBørge Ousland deler unike og lærerike erfaringer fra sin karrière som polfarer\, fotograf og gründer. \nBørge forteller om viljestyrke\, motivasjon\, oppnåelse\, og evnen til å prestere. Han reflekterer også rundt hva som skal til\, for å lykkes med sine mange ekspedisjoner.\nBørge deler også sin erfaring som gründer\, hvor han har jobbet med å utvikle landskapshotellet Manshausen i Steigen i Nordland fylke\, og har vunnet flere priser for den unike hotellperlen. \nBørge Ousland\, polfarer og foredragsholder. \n\n\n\n 15:00\nPause\n\n\n 15:15\n  \nHvordan bygge Nesodden som den mest attraktive destinasjon for bærekraftig opplevelsesturisme.\nÅpen dialog – om hvordan utvikle Nesodden som et attraktivt sted å besøke og handle. Hva med hotell\, tretopphytter\, sjøaktiviteter\, guidede turer\, nesoddmarka\, kyststiaktiviteter\, sykkelutleie\, gårdsopplevelser\, lokalmat\, besøk kunstneren\, osv. Kom med innspill og ideer\, hva kan vi få til? \n\n\n\n 16.00\nPause\n\n\n 16:30\n  \nFelles middag og nettverksbygging på Taste Restaurant (Tangen senter).\nHer serveres vi en herlig 3 retters middag\, for de som er påmeldt konferanse inklusiv middag. (drikke velges og betales utenom). Til hovedrett kan du velge mellom\, kjøtt\, fisk\, eller vegetar. Bli med\, nyt god mat\, treff nye og gamle kjente! \n\n\n\n 19:00\nAvslutning\n\n\n\nMed forbehold om endringer i programmet. \nPåmelding: Meld deg på her.\n(Deltakeravgift for konferansen kr. 298.-\, middag kr. 495.-. Velg en (kr. 298) eller begge (kr. 793)\, når du har klikket på «Meld deg på lenken») \nNB! Påmeldingsfrist er 25. oktober kl. 12.00\, vær rask med påmelding kun 70 plasser. \nFor spørsmål\, kontakt: \nOdd Fylling\nNæringsrådgiver – ansvarlig for virksomhet næring\nNesodden kommune \nEpost: odd.fylling@nesodden.kommune.no\nMobil: 410 00 500
URL:https://www.xn--nringslft-g3a8r.no/event/naeringslivsdagen-pa-nesodden/
LOCATION:Tangenten Ungdomsarena\, Nesodden Kommune\, Nesoddtangen\, 1451\, Norge
ATTACH;FMTTYPE=image/jpeg:https://www.xn--nringslft-g3a8r.no/wp-content/uploads/2022/09/Bildenettside_kaffepause2-e1739360828286.jpg
ORGANIZER;CN="Nesodden kommune":MAILTO:odd.fylling@nesodden.kommune.no
END:VEVENT
END:VCALENDAR