BEGIN:VCALENDAR
VERSION:2.0
PRODID:-//Nesodden kommune - ECPv6.15.20//NONSGML v1.0//EN
CALSCALE:GREGORIAN
METHOD:PUBLISH
X-WR-CALNAME:Nesodden kommune
X-ORIGINAL-URL:https://www.xn--nringslft-g3a8r.no
X-WR-CALDESC:Arrangement for Nesodden kommune
REFRESH-INTERVAL;VALUE=DURATION:PT1H
X-Robots-Tag:noindex
X-PUBLISHED-TTL:PT1H
BEGIN:VTIMEZONE
TZID:Europe/Oslo
BEGIN:DAYLIGHT
TZOFFSETFROM:+0100
TZOFFSETTO:+0200
TZNAME:CEST
DTSTART:20220327T010000
END:DAYLIGHT
BEGIN:STANDARD
TZOFFSETFROM:+0200
TZOFFSETTO:+0100
TZNAME:CET
DTSTART:20221030T010000
END:STANDARD
BEGIN:DAYLIGHT
TZOFFSETFROM:+0100
TZOFFSETTO:+0200
TZNAME:CEST
DTSTART:20230326T010000
END:DAYLIGHT
BEGIN:STANDARD
TZOFFSETFROM:+0200
TZOFFSETTO:+0100
TZNAME:CET
DTSTART:20231029T010000
END:STANDARD
BEGIN:DAYLIGHT
TZOFFSETFROM:+0100
TZOFFSETTO:+0200
TZNAME:CEST
DTSTART:20240331T010000
END:DAYLIGHT
BEGIN:STANDARD
TZOFFSETFROM:+0200
TZOFFSETTO:+0100
TZNAME:CET
DTSTART:20241027T010000
END:STANDARD
END:VTIMEZONE
BEGIN:VEVENT
DTSTART;TZID=Europe/Oslo:20231121T160000
DTEND;TZID=Europe/Oslo:20231121T180000
DTSTAMP:20260421T224309
CREATED:20231104T171443Z
LAST-MODIFIED:20231104T172904Z
UID:2943-1700582400-1700589600@www.xn--nringslft-g3a8r.no
SUMMARY:Invitasjon til dialogmøte med næringsaktører som ønsker næringseiendom på Munkerud\, Fagerstrand.
DESCRIPTION:Tangenten Eiendom AS er Nesodden kommunes heleide eiendomsselskap og ønsker å invitere næringsdrivende i og utenfor kommunen til dialogmøte om erverv og festing av næringseiendom på Fagerstrand. Selskapet er i samarbeid med andre grunneiere i god gang med reguleringsarbeidene av «Munkerud Næringspark II»\, og målsetningen er at det skal være tomter klargjort til å kunne gå rett til byggesak så tidlig som utgangen av 2024. Området det er snakk om er over 250 daa i størrelse. \nFor å komme videre i detaljerings-arbeidet og reguleringen trenger vi å snakke med interessenter så raskt som mulig\, for å imøtekomme behovene til næringsdrivende på en best mulig måte. Munkerud Næringspark blir et område det er naturlig å tenke seg plasskrevende næring og noe publikumsrettet næring i ulike segmenter. Alle næringsdrivende er selvsagt velkommen til å høre om planene for Munkerud. \nPåmelding er obligatorisk! \nFra Tangenten Eiendom AS møter daglig leder Kjetil Rygh. Odd Fylling\, som er kommunens næringsrådgiver har jobbet med Munkerud Næringspark og interessenter for området i mange år\, og vil også holde innlegg om prosess og viktigheten av å få rett næring på rett sted. Nesodden Næringsråd er spesielt invitert til å delta med tanker og innspill på vegne av sine medlemsbedrifter. \nDet blir enkel servering av mat og drikke. Vi håper å se mange fremmøtte.  \n  \nMer informasjon og påmelding her.\n  \n\n\n\n\n\n\n\n\n\nIllustrasjon (Sweco Architects) \n\n\n\n\n\n\n\n\n\n\n\nAGENDA\n\n\n\nGjennomgang av planer og tidslinje for Munkerud II\nKartlegge næringslivets behov\nPlassere rett næring på rett sted i planområdet\nArealbehov (BYA vs BRA) for forskjellige aktører\nEffektiviserte områder/platåer og synergier mellom bedrifter og næringstyper\nUforpliktende interesseliste ønskes etablert i etterkant av møtet for det videre reguleringsarbeidet\n\n\n\n\n\n\n\n\n\n\n\n\n Tid og Sted:\n\n\n\n\n\n\n\n\n\n\n\n\n\n\nSAGA RESTAURANT & BAR\nTirsdag 21 NOVEMBER: KL 16:00
URL:https://www.xn--nringslft-g3a8r.no/event/invitasjon-til-dialogmote-med-naeringsaktorer-som-onsker-naeringseiendom-pa-munkerud-fagerstrand-2/
LOCATION:Saga Restaurant\, Myklerudveien 35\, Fagerstrand\, 1454
ATTACH;FMTTYPE=image/jpeg:https://www.xn--nringslft-g3a8r.no/wp-content/uploads/2023/06/Kart-munkerud.jpg
ORGANIZER;CN="Tangenten Eiendom AS":MAILTO:post@tangenteneiendom.no
END:VEVENT
BEGIN:VEVENT
DTSTART;TZID=Europe/Oslo:20231121T170000
DTEND;TZID=Europe/Oslo:20231121T200000
DTSTAMP:20260421T224309
CREATED:20231031T122445Z
LAST-MODIFIED:20231031T122742Z
UID:2914-1700586000-1700596800@www.xn--nringslft-g3a8r.no
SUMMARY:Forretningsplan og forretningsmodeller 21.november
DESCRIPTION:Forretningsplan og forretningsmodeller 21.november\n\nTuesday\, November 21\, 2023\n17:00  20:00\n\n\nInnovasjonssenteret i Ås27 RådhusplassenÅs\, Viken\, 1430Norway (map)\n\n\n\n\n\n\n\n\n\nHvordan skal din bedrift organisere seg for best mulig å imøtekomme kundenes behov? \nTemakvelden viser hvordan man lager en enkel og praktisk plan for å skape sammenheng og systematikk mellom forretningside\, forretningsmodell\, mål\, handlingsplaner og budsjett. Forretningsmodellen gir deg oversikt over hvilke oppgaver som må løses for å få bedriften på bena og tjene penger. \nInnhold: \n\n\nInnføring i verktøy for å utvikle sunn forretningsmodell \n\n\nGjennomgang av alle elementene i forrretningsplanen \n\n\nBusiness model canvas \n\n\nSted: Innovasjonssenteret i ÅS \n\n\nMeld deg på
URL:https://www.xn--nringslft-g3a8r.no/event/forretningsplan-og-forretningsmodeller-21-november/
LOCATION:Innovasjonssenteret i ÅS\, 27 Rådhusplassen\, Ås\, 1430
ATTACH;FMTTYPE=image/png:https://www.xn--nringslft-g3a8r.no/wp-content/uploads/2023/04/Etab-mai-1.png
ORGANIZER;CN="Nesodden kommune":MAILTO:odd.fylling@nesodden.kommune.no
END:VEVENT
BEGIN:VEVENT
DTSTART;TZID=Europe/Oslo:20231123T090000
DTEND;TZID=Europe/Oslo:20231123T150000
DTSTAMP:20260421T224309
CREATED:20230911T073710Z
LAST-MODIFIED:20230911T073816Z
UID:2842-1700730000-1700751600@www.xn--nringslft-g3a8r.no
SUMMARY:Gratis personlig veiledning for deg som vil starte bedrift - nå også på Nesodden!
DESCRIPTION:Starte eller drive bedrift\nBestill en gratis personlig veiledningstime på Nesodden!\n\nGratis individuell veiledning på Nesodden 23. november\nMålet med dette veiledningstilbudet er å hjelpe deg å utforske din egen forretningsidé\, og bidra til at du får laget en god forretningsmodell/plan som setter deg i stand til å starte og utvikle en lønnsom forretningsvirksomhet. \nHvorvidt prosjektet ditt lykkes avhenger i stor grad av deg selv. Men vi bistår deg gjerne i utviklingen av din forretningsidé\, plan og gjennomføring\, og dette gjør vi gratis\, uten kostnader for deg. \nDriver du en bedrift i dag\, kan du få hjelp til omstilling eller videreutvikling\, ta kontakt! \nDu bestiller gratis veiledningstime hos oss her. Skal du ha næringsfaglig vurdering koster det kr 1250\,- ink mva. Etter at du har bestilt time tar vi kontakt med deg for å avtale tidspunkt for en veiledningstime. Trykk på en av lenkene nedenfor for å sende e-post (etablerer@norgesvel.no) til oss med din henvendelse. \n\n\n\n\n\n\nBestill personlig veiledning på Nesodden 23. november\n\n\n\n\n\n\n\n\nBestilling næringsfaglig vurdering Follo\n\n\n\n\n\n\n\n\n\n\n\n\nVil du ha bedriftsbesøk? \nVi drar også på bedriftsbesøk. Vil du at vi skal komme å se på din virksomhet (butikk\, verksted\, cafe\, gård eller lignende) ta kontakt på etablerer@norgesvel.no
URL:https://www.xn--nringslft-g3a8r.no/event/gratis-personlig-veiledning-for-deg-som-vil-starte-bedrift-na-ogsa-pa-nesodden-3/
LOCATION:Tangenten – møterom Furu\, Nesodden Kommune\, Nesoddtangen\, 1451\, Norge
ATTACH;FMTTYPE=image/jpeg:https://www.xn--nringslft-g3a8r.no/wp-content/uploads/2022/03/Etablerertjenesten-9.jpg
ORGANIZER;CN="Nesodden kommune":MAILTO:odd.fylling@nesodden.kommune.no
END:VEVENT
BEGIN:VEVENT
DTSTART;TZID=Europe/Oslo:20231128T120000
DTEND;TZID=Europe/Oslo:20231128T130000
DTSTAMP:20260421T224309
CREATED:20231031T123235Z
LAST-MODIFIED:20231031T123235Z
UID:2919-1701172800-1701176400@www.xn--nringslft-g3a8r.no
SUMMARY:Sosialt entreprenørskap - en introduksjon
DESCRIPTION:Sosialt entreprenørskap – en introduksjon\n\nTuesday\, November 28\, 2023\n12:00  13:00\n\n\n\n\n\n\n\n\n\n\n\n\n\n\n\n\nSosiale entreprenører løser ulike samfunnsproblemer. Det krever et fokus på både problemet og det forretningsmessige for å overleve som bedrift\, såkalt dobbel bunnlinje. Måling av både sosiale og økonomiske resultater er derfor viktig. Ofte vil kundene og de som betaler ikke være samme gruppe\, noe som setter krav til hvordan forretningsmodellen utvikles. \nBli med for en introduksjon til sosialt entreprenørskap torsdag 8. desember. \nWebinar – lenke blir sendt ut 15-20 minutter før start. Får du ikke lenke sjekk søppelposten din \n\n\n\n\n\n\n\n\n\n\n\n\nMeld deg på her
URL:https://www.xn--nringslft-g3a8r.no/event/sosialt-entreprenorskap-en-introduksjon-2/
LOCATION:Innovasjonssenteret i ÅS\, 27 Rådhusplassen\, Ås\, 1430
ATTACH;FMTTYPE=image/jpeg:https://www.xn--nringslft-g3a8r.no/wp-content/uploads/2023/10/sosialt.jpg
ORGANIZER;CN="Nesodden kommune":MAILTO:odd.fylling@nesodden.kommune.no
END:VEVENT
BEGIN:VEVENT
DTSTART;TZID=Europe/Oslo:20231128T170000
DTEND;TZID=Europe/Oslo:20231128T200000
DTSTAMP:20260421T224309
CREATED:20231031T123642Z
LAST-MODIFIED:20231031T123642Z
UID:2922-1701190800-1701201600@www.xn--nringslft-g3a8r.no
SUMMARY:Markedsføring og konseptutvikling 28.november
DESCRIPTION:Markedsføring og konseptutvikling 28.november\n\nTuesday\, November 28\, 2023\n17:00  20:00\n\n\nNordre Follo Rådhus8 IdrettsveienSki\, Viken\, 1400Norway (map)\n\n\n\n\n\n\n\n\n\nHva skal du være\, hvordan skal du gjøre det og for hvem? \nTemakvelden hjelper deg å forstå kunders kjøpsadferd slik din bedrift kan utvikle hensiktsmessige markedsstrategier. Kurset gir innsikt i kjøps- og beslutningsprosesser\, segmentering\, posisjonering\, produktutvikling og markedskommunikasjon. Du vil bli introdusert til flere nyttige markedsføringsverktøy. Kurset er praktisk rettet med mange gode eksempler. \nInnhold: \n\n\nIntroduksjon til markedsføring \n\n\nDe viktige valgene: produkt-marked-posisjonering \n\n\nHvordan gjennomføre en markedsundersøkelse? \n\n\nGjennomgang av de ulike elementene i Markedsføringsmixen: \n\n\nProduktet \n\n\nPris \n\n\nPlass (salgskanal) \n\n\nPåvirkning \n\n\n\n\nSted: Nordre Follo Rådhus \n\n\n\n\n\nMeld deg på
URL:https://www.xn--nringslft-g3a8r.no/event/markedsforing-og-konseptutvikling-28-november/
LOCATION:Nordre Follo rådhus\, Idrettsveien 8\, 1400 Ski
ATTACH;FMTTYPE=image/jpeg:https://www.xn--nringslft-g3a8r.no/wp-content/uploads/2023/10/mai-2.jpg
ORGANIZER;CN="Nesodden kommune":MAILTO:odd.fylling@nesodden.kommune.no
END:VEVENT
BEGIN:VEVENT
DTSTART;TZID=Europe/Oslo:20231129T170000
DTEND;TZID=Europe/Oslo:20231129T200000
DTSTAMP:20260421T224309
CREATED:20230822T132214Z
LAST-MODIFIED:20230822T132214Z
UID:2790-1701277200-1701288000@www.xn--nringslft-g3a8r.no
SUMMARY:Grunnkurs i etablering 29.november
DESCRIPTION:Grunnkurset tar for seg det viktigste du trenger å vite før du starter egen bedrift. Kurset gir deg en innføring og avklaring rundt formelle krav omkring selskapsform\, skatt\, avgifter\, trygderettigheter og forsikringer. Videre gir kurset innsikt i risikovurdering og hvordan man legger til rette for en vellykket start av din virksomhet. \nSted Nordre Follo Rådhus\, Ski \n\n\n\n\n\n\nKurset er gratis. Dersom du ikke kommer på kurset uten at vi har fått beskjed faktureres et gebyr på 500 kroner . \nPå noen PCer særlig Mac vil ikke skrollefelt i påmeldingsskjema være synlig. Bruk styreflate til å skrolle ned i skjema til du får Send inn knappen. \n\n\n\n\n\nMeld deg på
URL:https://www.xn--nringslft-g3a8r.no/event/grunnkurs-i-etablering-29-november/
LOCATION:Tangenten\, Kongleveien 2\, Nesoddtangen\, 1451\, Norge
ATTACH;FMTTYPE=image/jpeg:https://www.xn--nringslft-g3a8r.no/wp-content/uploads/2023/08/Etablerertjenesten-ht1.jpg
ORGANIZER;CN="Nesodden kommune":MAILTO:odd.fylling@nesodden.kommune.no
END:VEVENT
END:VCALENDAR