BEGIN:VCALENDAR
VERSION:2.0
PRODID:-//Nesodden kommune - ECPv6.15.20//NONSGML v1.0//EN
CALSCALE:GREGORIAN
METHOD:PUBLISH
X-ORIGINAL-URL:https://www.xn--nringslft-g3a8r.no
X-WR-CALDESC:Arrangement for Nesodden kommune
REFRESH-INTERVAL;VALUE=DURATION:PT1H
X-Robots-Tag:noindex
X-PUBLISHED-TTL:PT1H
BEGIN:VTIMEZONE
TZID:Europe/Oslo
BEGIN:DAYLIGHT
TZOFFSETFROM:+0100
TZOFFSETTO:+0200
TZNAME:CEST
DTSTART:20220327T010000
END:DAYLIGHT
BEGIN:STANDARD
TZOFFSETFROM:+0200
TZOFFSETTO:+0100
TZNAME:CET
DTSTART:20221030T010000
END:STANDARD
BEGIN:DAYLIGHT
TZOFFSETFROM:+0100
TZOFFSETTO:+0200
TZNAME:CEST
DTSTART:20230326T010000
END:DAYLIGHT
BEGIN:STANDARD
TZOFFSETFROM:+0200
TZOFFSETTO:+0100
TZNAME:CET
DTSTART:20231029T010000
END:STANDARD
BEGIN:DAYLIGHT
TZOFFSETFROM:+0100
TZOFFSETTO:+0200
TZNAME:CEST
DTSTART:20240331T010000
END:DAYLIGHT
BEGIN:STANDARD
TZOFFSETFROM:+0200
TZOFFSETTO:+0100
TZNAME:CET
DTSTART:20241027T010000
END:STANDARD
END:VTIMEZONE
BEGIN:VEVENT
DTSTART;TZID=Europe/Oslo:20231205T170000
DTEND;TZID=Europe/Oslo:20231205T200000
DTSTAMP:20260421T205428
CREATED:20231031T124041Z
LAST-MODIFIED:20231031T124142Z
UID:2927-1701795600-1701806400@www.xn--nringslft-g3a8r.no
SUMMARY:Salg og kontaktskapende arbeid 5.desember
DESCRIPTION:Salg og kontaktskapende arbeid 5.desember\n\nTuesday\, December 5\, 2023\n17:00  20:00\n\n\nNordre Follo Rådhus8 IdrettsveienSki\, Viken\, 1400Norway (map)\n\n\n\n\n\n\n\n\n\nLær hvordan gode salgsstrategier kan øke inntjeningen til din bedrift. Temakvelden forklarer hvordan  man bruker kundeinnsikten fra markedsarbeidet til å utvikle og planlegge salgsstrategier. Salgsarbeidet må tilpasses dine kunders tanker og vurderinger. Det kan du gjøre ved å lære deg å utvikle behovsorienterte salgsstrategier.  Kurset er praktisk rettet. \nInnhold: \n\n\nTrinnene i salgsprosessen \n\n\nHvordan planlegge for effektivt salg? \n\n\nSalgsmøte/salgssamtalen – strategier\, verktøy og tips for å lykkes \n\n\nEttersalgsaktiviteter – Hvordan få lojale kunder/gjensalg? \n\n\n\n\n\n\n\nMeld deg på her
URL:https://www.xn--nringslft-g3a8r.no/event/salg-og-kontaktskapende-arbeid-5-desember/
LOCATION:Nordre Follo rådhus\, Idrettsveien 8\, 1400 Ski
ATTACH;FMTTYPE=image/jpeg:https://www.xn--nringslft-g3a8r.no/wp-content/uploads/2023/10/bild-3.jpg
ORGANIZER;CN="Nesodden kommune":MAILTO:odd.fylling@nesodden.kommune.no
END:VEVENT
END:VCALENDAR