BEGIN:VCALENDAR
VERSION:2.0
PRODID:-//Nesodden kommune - ECPv6.15.20//NONSGML v1.0//EN
CALSCALE:GREGORIAN
METHOD:PUBLISH
X-WR-CALNAME:Nesodden kommune
X-ORIGINAL-URL:https://www.xn--nringslft-g3a8r.no
X-WR-CALDESC:Arrangement for Nesodden kommune
REFRESH-INTERVAL;VALUE=DURATION:PT1H
X-Robots-Tag:noindex
X-PUBLISHED-TTL:PT1H
BEGIN:VTIMEZONE
TZID:UTC
BEGIN:STANDARD
TZOFFSETFROM:+0000
TZOFFSETTO:+0000
TZNAME:UTC
DTSTART:20230101T000000
END:STANDARD
END:VTIMEZONE
BEGIN:VEVENT
DTSTART;TZID=UTC:20240214T130000
DTEND;TZID=UTC:20240214T153000
DTSTAMP:20260421T174827
CREATED:20231102T143453Z
LAST-MODIFIED:20231204T071733Z
UID:2934-1707915600-1707924600@www.xn--nringslft-g3a8r.no
SUMMARY:Møte 6 - Dialog/samhandlingsmøte mellom lokale næringsaktører på Nesodden\, og plan\, byggesak og geodata i kommunen
DESCRIPTION:Møte nr. 6 – Dialog og samhandlingsmøte mellom lokale næringsaktører på Nesodden\, og plan\, byggesak og geodata i kommunen\nEtter nok et godt femte møte\, er vi klar for å fortsette dette viktige og nyttige arbeidet i et nytt møte. \nResultatet av denne undersøkelsen/intervjuene blir hovedtema på møtet;\n«Vil du hjelpe til med å forbedre kommunens byggesakstjenester?\nVi jobber for tiden med å forbedre tjenestene våre innen byggesaksbehandling\, og i den forbindelse ønsker vi å lære mer om innbyggernes erfaringer med tjenestene våre – fra oppstart til ferdig behandlet sak.\nVi søker derfor etter innbyggere som har hatt saker til behandling i løpet av de siste tre årene. Inntil fire interesserte vil bli invitert til intervju eller fokusgruppe i Tangenten.» \n\n\nDette er dialogmøter for å bedre forståelse\, kunnskap og kommunikasjon mellom kommunen og utbyggere/arkitekter/søknadsansvarlige mm. Møtet er for fagmiljø på søkesiden og kommunens fagmiljø på plan og søknadsbehandling. \nNesodden Næringsråd og Nesodden kommune tar initiativet til møter hvor man jobber sammen for å skape god forståelse og god samhandling mellom kommune og næringsdrivende. \nI hvert møte blir det belyst og diskutert ulik tematikk og tiltak som kan skape bedre flyt og effektivitet mellom ansvarlige søkere og fagmiljøer i kommunen. \nDette møtet blir en videreføring av de fem første vellykkede møtene der mange aktører fra ulike profesjonelle fagmiljø deltok. \nHer finner du eldre presentasjoner fra kommunen som kan være nyttige for noen:\nByggesak: Presentasjon byggesak 17. mars 2022\nPlan: Næringsforum presentasjon 17. mars 2022\nGeodata: Geodata-Presentasjon 17. mars 2022 \nByggesak: Presentasjon byggesak 24.11.2021\nPlan: Næringsforum presentasjon 24.11.21\nGeodata: Geodata-Presentasjon for næringsrådet 24.11.2021 \nHer er et memo fra første møte: Memo dialog og samhandlingsmøte 24. november \nSted: Tangenten\, Agnor 1 og 2. (kun 20 deltagere)\nTid: den 14. februar kl. 13.00 – 15.30.\n———————- \nAgenda\n\nVelkommen – innledning.\nNæringsrådets leder Torgeir Koteng sier noen ord om status på næringsforeningens arbeid\, samt leder møtet.\nKort status for byggesak – ansatte/saksmengde og prioritering (Madeleine)\nKort status for plan – ansatte/saksmengde og prioritering (Marit)\nKort status for geodata – ansatte/saksmengde og prioritering (Jens Kristiansen\, geodata)\nMingling/pause 15 minutt\nForbedring av byggesaksprosessen: resultat fra kartlegging og videre fremdrift.\n\n\nVeien videre\, tema for neste møte.\n\nFokuset for møtet/møtene er å «gjøre hverandre bedre»\, kommunisere bedre\, og få til en enda bedre arbeidsflyt\, samarbeid og effektivitet mellom kommunen og de profesjonelle aktørene. Når vi lykkes med det\, vil alle parter spare tid og penger\, redusere irritasjon og frustrasjon.
URL:https://www.xn--nringslft-g3a8r.no/event/mote-6-dialog-samhandlingsmote-mellom-lokale-naeringsaktorer-pa-nesodden-og-plan-byggesak-og-geodata-i-kommunen/
LOCATION:Tangenten – møterom Agnor\, Nesodden Kommune\, Nesoddtangen\, 1451\, Norge
ATTACH;FMTTYPE=image/jpeg:https://www.xn--nringslft-g3a8r.no/wp-content/uploads/2022/03/20220317_133558-rotated.jpg
ORGANIZER;CN="Nesodden kommune":MAILTO:odd.fylling@nesodden.kommune.no
END:VEVENT
END:VCALENDAR