BEGIN:VCALENDAR
VERSION:2.0
PRODID:-//Nesodden kommune - ECPv6.15.20//NONSGML v1.0//EN
CALSCALE:GREGORIAN
METHOD:PUBLISH
X-ORIGINAL-URL:https://www.xn--nringslft-g3a8r.no
X-WR-CALDESC:Arrangement for Nesodden kommune
REFRESH-INTERVAL;VALUE=DURATION:PT1H
X-Robots-Tag:noindex
X-PUBLISHED-TTL:PT1H
BEGIN:VTIMEZONE
TZID:Europe/Oslo
BEGIN:DAYLIGHT
TZOFFSETFROM:+0100
TZOFFSETTO:+0200
TZNAME:CEST
DTSTART:20230326T010000
END:DAYLIGHT
BEGIN:STANDARD
TZOFFSETFROM:+0200
TZOFFSETTO:+0100
TZNAME:CET
DTSTART:20231029T010000
END:STANDARD
BEGIN:DAYLIGHT
TZOFFSETFROM:+0100
TZOFFSETTO:+0200
TZNAME:CEST
DTSTART:20240331T010000
END:DAYLIGHT
BEGIN:STANDARD
TZOFFSETFROM:+0200
TZOFFSETTO:+0100
TZNAME:CET
DTSTART:20241027T010000
END:STANDARD
BEGIN:DAYLIGHT
TZOFFSETFROM:+0100
TZOFFSETTO:+0200
TZNAME:CEST
DTSTART:20250330T010000
END:DAYLIGHT
BEGIN:STANDARD
TZOFFSETFROM:+0200
TZOFFSETTO:+0100
TZNAME:CET
DTSTART:20251026T010000
END:STANDARD
END:VTIMEZONE
BEGIN:VEVENT
DTSTART;TZID=Europe/Oslo:20240513T173000
DTEND;TZID=Europe/Oslo:20240513T193000
DTSTAMP:20260421T131044
CREATED:20231220T121037Z
LAST-MODIFIED:20240306T134442Z
UID:3077-1715621400-1715628600@www.xn--nringslft-g3a8r.no
SUMMARY:Starte egen virksomhet? - bli med på etablererverkstedet Nesodden!
DESCRIPTION:For deg som vurderer å starte egen virksomhet\nStarte egen virksomhet? – bli med på etablererverkstedet Nesodden!\n– et sted å være\, utforske og utvikle – mekke på tanker om egen virksomhet\n \nEn ny arena på Nesodden\, et verksted for deg som ønsker å starte\, eller lurer på om det er en god idé å starte egen virksomhet.  \nHar du en idé du ønsker å få testet\, behov for litt veiledning og råd\, for å finne ut om det er en god ide å starte for seg selv?\n \nHensikten med dette programmet fra kommunens side\, er å gjøre det lettere for deg som som er usikker på om du skal satse selv\, eller synes det er «tungt» å komme i gang\, mye usikkerhet\, mange spørsmål du skulle hatt svar på osv. Ved å skape et trygt felleskap over tid\, vil man få mulighet til å utforske «drømmen»\, finne svar\, lage gode planer\, og ikke minst et motiverende og hyggelig felleskap. Og for deg som er helt klar for å ta steget\, vil vi også veilede deg videre til de ressursene du har behov for\, så du kan lykkes med din satsing. \nDet er ofte tungt å «tenke alle tanker selv»\, det er mange spørsmål som skal besvares\, man skal utvikle en forretningsmodell og plan\, finne ut om man skal drive på heltid\, eller vedsiden av annen jobb\, risiko og markedsanalyse og mye mer. Da er det godt å ha andre som er i  samme situasjon og som også trenger inspirasjon og påfyll\, veiledning og hjelp. Du har kanskje jobbet mye for deg selv og savner et miljø\, noen likesinnede å være sammen med? \nÅ skape en ny virksomhet er ikke bare utrolig motiverende – det er også essensielt for en bedre framtid! \nDette verkstedet skal være et fleksibelt verksted\, og hva vi skal putte inn i verkstedet av verktøy som vi kan bruke\, avhenger av hvem som blir med i miljøet og hva som skal utforskes og løses\, så her blir veien litt til mens vi går. Vi har mange spennende og innovative verktøy og aktører vi kan trekke inn i arbeidet etter behov. Vi samarbeider også med Etablerertjenesten og StartupFollo.no i forhold til kurs og veiledning mm. \nVerkstedet skal være et sted hvor vi møtes jevnlig for å skape\, tenke og dele og som stimulerer til innovasjon og nytenkning. Etablererverkstedet i Tangenten blir en arena hvor man treffes jevnlig hver 3. uke for å jobbe innovativt for å lære og dele sammen med andre. \nLeve litt bedre\, og ha det mer gøy som selvstendig\, bli med å skape sammen med oss andre!\nFå innspill på din idé og profesjonell hjelp\nHer kan du lufte din idé for andre og få tilbakemeldinger på hvordan du kan utvikle den videre. Tenk å få tilbakemelding på hva andre tenker om din forretningsidé\, din virksomhet eller nye planer. Du kan også bli satt i kontakt med profesjonelle aktører som kan hjelpe din idé videre. \nEt ekstra pluss med Etablererverkstedet\nMange har også behov for et sted å jobbe praktisk med ideen sin\, så derfor ønsker vi å få til en kopling mellom Etablererverkstedet og Maker Space. \nVerktøy- og metodehjelp\nI Etablererverkstedet vil kommunen tilby oppstarts og innovasjonsstøtte på ulike måter. I tillegg til metodestøtte ved behov\, vil vi blant annet tilby kurs og andre verktøy for innovasjon og utvikling\, samt skreddersydde opplegg knyttet til konkrete problemstillinger. Innholdet i Etablererverkstedet vil utvikle seg i takt med behovene til alle som ønsker å ta det i bruk\, og det håper vi blir riktig mange. \nEtablererverkstedet som verktøy for samskaping\nEt slikt sted vil i seg selv ikke utgjøre den store forskjellen\, det er det som skjer i rommet som kan skape endring. I trygge omgivelser kan man dele erfaringer og innsikter\, finne frem til nye svar\, utfordre og heie på hverandre. Ulike retninger/bransjer kan møtes\, finne sammen og finne ut av felles utfordringer og løsninger. \n \n  \nKontakt Odd Fylling i Nesodden kommune om du vil bli med\, eller starte for deg selv. \nEpost: odd.fylling@nesodden.kommune.no \nTelefon: 410 00 500  \nVelkommen til Etablererverkstedet! \n 
URL:https://www.xn--nringslft-g3a8r.no/event/startup-nesodden/
LOCATION:Tangenten\, Kongleveien 2\, Nesoddtangen\, 1451\, Norge
ATTACH;FMTTYPE=image/jpeg:https://www.xn--nringslft-g3a8r.no/wp-content/uploads/2023/02/unsplash-image-Vy2Y1cCLiT8.jpg
ORGANIZER;CN="Nesodden kommune":MAILTO:odd.fylling@nesodden.kommune.no
END:VEVENT
BEGIN:VEVENT
DTSTART;TZID=Europe/Oslo:20240523T170000
DTEND;TZID=Europe/Oslo:20240523T200000
DTSTAMP:20260421T131044
CREATED:20240131T133337Z
LAST-MODIFIED:20240207T155850Z
UID:3164-1716483600-1716494400@www.xn--nringslft-g3a8r.no
SUMMARY:Grunnkurs i bedrifts etablering på Nesodden 23. mai
DESCRIPTION:Gratis kurs og veiledning for deg som skal starte bedrift\nGrunnkurs i bedrifts etablering 23. mai på Nesodden\n\n\n\n\nGratis etablererkurs og veiledning for deg som skal starte egen virksomhet på Nesodden. I tillegg gjør vi næringsfaglige vurderinger. Vi kan introdusere deg til relevante nettverk i Follo og i regionen ellers. Nettverk er viktig for å lykkes med egen bedrift! \nGrunnkurset tar for seg det viktigste du trenger å vite før du starter egen bedrift. Kurset gir deg en innføring og avklaring rundt formelle krav omkring selskapsform\, skatt\, avgifter\, trygderettigheter og forsikringer. Videre gir kurset innsikt i risikovurdering og hvordan man legger til rette for kommersiell planlegging. \nPåmelding: Husk å melde deg på her\, for å sikre din plass\,: Grunnkurs i etablering 23.mai 2024 — Etablerertjenesten i Follo (startupfollo.no) \nSted: Tangenten  – Møterom Agnor.
URL:https://www.xn--nringslft-g3a8r.no/event/grunnkurs-i-bedrifts-etablering-pa-nesodden-23-mai/
LOCATION:Tangenten – møterom Agnor\, Nesodden Kommune\, Nesoddtangen\, 1451\, Norge
ATTACH;FMTTYPE=image/jpeg:https://www.xn--nringslft-g3a8r.no/wp-content/uploads/2023/12/ideer.jpg
ORGANIZER;CN="Nesodden kommune":MAILTO:odd.fylling@nesodden.kommune.no
END:VEVENT
BEGIN:VEVENT
DTSTART;TZID=Europe/Oslo:20240527T170000
DTEND;TZID=Europe/Oslo:20240527T190000
DTSTAMP:20260421T131044
CREATED:20231219T140644Z
LAST-MODIFIED:20240417T162342Z
UID:3035-1716829200-1716836400@www.xn--nringslft-g3a8r.no
SUMMARY:Gründerverkstedet på Nesodden - for deg som driver virksomhet
DESCRIPTION:For deg som driver engen virksomhet\nKunstig intelligens kan gjøre en forskjell for din bedrift – neste tema på Gründerverkstedet på Nesodden!\n– et sted å være\, dele\, utvikle – mekke på nye konsept eller ideer\n \nTema for neste Gründerverksted 27. mai:\nKom og se hvordan kunstig intelligens kan gjøre en forskjell for din bedrift. Vi viser deg hvordan enkle AI-verktøy kan hjelpe deg med å ta smartere beslutninger og effektivisere driften. Lær å bruke teknologi som sparer tid og øker inntekter. Kom innom for nyttige tips du kan bruke med en gang. \nPresentasjonen holdes av Jon og Jonas\, som begge er forretningsutviklere og deltagere på Gründerverksted i regi av Nesodden kommune.\n \nVåre regulære Gründerverksted bidrar med:\nHar du en idé\, du ønsker å få teste\, litt sparring rundt\, utvikle videre? Kanskje din bedrift har «stagnert» litt og du trenger inspirasjon og påfyll? Eller er du en som jobber mye for deg selv og savner et miljø\, noen likesinnede å være sammen med? \nDette gründerverkstedet skal være et fleksibelt verksted\, og hva vi skal putte inn i verkstedet av verktøy som vi kan bruke\, avhenger av hvem som blir med i miljøet og hva som skal utforskes og løses\, så her blir veien litt til mens vi går. Vi har mange spennende og innovative verktøy og aktører vi kan trekke inn i arbeidet etter behov. \nGründerverkstedet skal være et sted hvor vi møtes jevnlig for å skape\, tenke og dele og som stimulerer til innovasjon og nytenkning. Gründerverkstedet i Tangenten blir en arena hvor man treffes jevnlig hver 3. uke for å jobbe innovativt for å lære og dele sammen med andre. \nLeve litt bedre\, og ha det mer gøy som gründer\, bli med å skape sammen med oss andre!\nFå innspill på din idé og profesjonell hjelp\nHer kan du lufte din idé for andre og få tilbakemeldinger på hvordan du kan utvikle den videre. Tenk å få tilbakemelding på hva andre tenker om din forretningsidé\, din virksomhet eller nye planer. Du kan også bli satt i kontakt med profesjonelle aktører som kan hjelpe din idé videre. \nEt ekstra pluss med Gründerverkstedet\nMange har også behov for et sted å jobbe praktisk med ideen sin\, så derfor ønsker vi å få til en kopling mellom gründerverkstedet og Maker Space. \nVerktøy- og metodehjelp\nI Gründerverkstedet vil kommunen tilby innovasjonsstøtte på ulike måter. I tillegg til metodestøtte ved behov\, vil vi blant annet tilby kurs i design thinking og andre verktøy for innovasjon og utvikling\, samt skreddersydde opplegg knyttet til konkrete problemstillinger. Innholdet i Ideverkstedet vil utvikle seg i takt med behovene til alle som ønsker å ta det i bruk\, og det håper vi blir riktig mange. \nGründerverkstedet som verktøy for samskaping?\nEt slikt sted vil i seg selv ikke utgjøre den store forskjellen\, det er det som skjer i rommet som kan skape endring. I trygge omgivelser kan man dele erfaringer og innsikter\, finne frem til nye svar\, utfordre og heie på hverandre. Ulike bransjer kan møtes\, finne sammen og finne ut av felles utfordringer og løsninger. \n \n  \nVi satser på å møtes hver 3. uke på mandagen fra 17.00 – ca. 19.00.\nNB! Kun 16 plasser. \nVelkommen til Gründerverkstedet! \nBLI MED?\nMeld deg på eller kontakt Odd for mer informasjon:\n- Odd Fylling på tel 410 00500 \neller epost odd.fylling@nesodden.kommune.no\n 
URL:https://www.xn--nringslft-g3a8r.no/event/grunderverkstedet/
LOCATION:Tangenten\, Kongleveien 2\, Nesoddtangen\, 1451\, Norge
ATTACH;FMTTYPE=image/jpeg:https://www.xn--nringslft-g3a8r.no/wp-content/uploads/2022/03/Etablerertjenesten-9.jpg
ORGANIZER;CN="Nesodden kommune":MAILTO:odd.fylling@nesodden.kommune.no
END:VEVENT
END:VCALENDAR